BEGIN:VCALENDAR
VERSION:2.0
BEGIN:VEVENT
SUMMARY:Reunião Anual do Colégio de Especialidade de Assuntos Regulamentares
DESCRIPTION:<p>O Conselho do Colégio de Especialidade de Assuntos Regulamentares da Ordem dos Farmacêuticos organiza a próxima Reunião Anual do Colégio de Especialidade de Assuntos Regulamentares, com o tema &#8220;Mais do que regular: digitalização e acesso na estratégia europeia&#8221;, no próximo dia 26 de junho de 2025, na Sede da Ordem dos Farmacêuticos.</p>

LOCATION:Sede da Ordem dos Farmacêuticos, Lisboa
DTSTART:20250626T000000Z
DTEND:20250626T000000Z
END:VEVENT
END:VCALENDAR
