BEGIN:VCALENDAR
VERSION:2.0
BEGIN:VEVENT
SUMMARY:III Congresso Nacional da Distribuição Farmacêutica
DESCRIPTION:
LOCATION:Centro de Congressos do Lagoas Park Hotel
DTSTART:20251008T000000Z
DTEND:20251008T000000Z
END:VEVENT
END:VCALENDAR
