BEGIN:VCALENDAR
VERSION:2.0
BEGIN:VEVENT
SUMMARY:18.ª Reunião Nacional GEPCOI
DESCRIPTION:
LOCATION:Hotel SDivine Fátima Hotel
DTSTART:20251002T000000Z
DTEND:20251003T000000Z
END:VEVENT
END:VCALENDAR
