BEGIN:VCALENDAR
VERSION:2.0
BEGIN:VEVENT
SUMMARY:21.º Congresso Nacional de Cancro Digestivo
DESCRIPTION:
LOCATION:Hotel Eurostars Oasis Plaza, Figueira da Foz
DTSTART:20251001T000000Z
DTEND:20251003T000000Z
END:VEVENT
END:VCALENDAR
