BEGIN:VCALENDAR
VERSION:2.0
BEGIN:VEVENT
SUMMARY:8.ª Reunião do Núcleo de Estudos de Geriatria da SPMI
DESCRIPTION:
LOCATION:Centro Multimeios de Espinho
DTSTART:20251016T000000Z
DTEND:20251017T000000Z
END:VEVENT
END:VCALENDAR
