BEGIN:VCALENDAR
VERSION:2.0
BEGIN:VEVENT
SUMMARY:Reunião Anual da Associação Portuguesa de Diagnóstico Pré-Natal
DESCRIPTION:
LOCATION:Faro
DTSTART:20251017T000000Z
DTEND:20251018T000000Z
END:VEVENT
END:VCALENDAR
