BEGIN:VCALENDAR
VERSION:2.0
BEGIN:VEVENT
SUMMARY:X Reunião Anual do Núcleo de Estudos de Doença Vascular Pulmonar
DESCRIPTION:
LOCATION:Hotel NH D. Inês, Coimbra
DTSTART:20251018T000000Z
DTEND:20251018T000000Z
END:VEVENT
END:VCALENDAR
