BEGIN:VCALENDAR
VERSION:2.0
BEGIN:VEVENT
SUMMARY:South Side of the Heart 2025
DESCRIPTION:
LOCATION: Hospital Garcia de Orta, Almada
DTSTART:20251020T000000Z
DTEND:20251021T000000Z
END:VEVENT
END:VCALENDAR
