BEGIN:VCALENDAR
VERSION:2.0
BEGIN:VEVENT
SUMMARY:18.º Simpósio Internacional de Trombose e Hemostase
DESCRIPTION:
LOCATION:Fundação Cupertino de Miranda, Porto
DTSTART:20251023T000000Z
DTEND:20251024T000000Z
END:VEVENT
END:VCALENDAR
