BEGIN:VCALENDAR
VERSION:2.0
BEGIN:VEVENT
SUMMARY:25.º Congresso Nacional de Pediatria
DESCRIPTION:
LOCATION:Alfândega do Porto
DTSTART:20251029T000000Z
DTEND:20251031T000000Z
END:VEVENT
END:VCALENDAR
