BEGIN:VCALENDAR
VERSION:2.0
BEGIN:VEVENT
SUMMARY:XXXIII Congresso Português de Aterosclerose
DESCRIPTION:
LOCATION:Hotel Eurostars Oasis Plaza, Figueira da Foz
DTSTART:20251031T000000Z
DTEND:20251101T000000Z
END:VEVENT
END:VCALENDAR
