BEGIN:VCALENDAR
VERSION:2.0
BEGIN:VEVENT
SUMMARY:2nd Botton-Champalimaud
DESCRIPTION:
LOCATION:Fundação Champalimaud, Lisboa
DTSTART:20251029T000000Z
DTEND:20251101T000000Z
END:VEVENT
END:VCALENDAR
