BEGIN:VCALENDAR
VERSION:2.0
BEGIN:VEVENT
SUMMARY:Innovating Health Together Conference&#8217;25
DESCRIPTION:
LOCATION:Super Bock Arena, Porto
DTSTART:20251028T000000Z
DTEND:20251029T000000Z
END:VEVENT
END:VCALENDAR
