BEGIN:VCALENDAR
VERSION:2.0
BEGIN:VEVENT
SUMMARY:Congresso Nacional de Neurologia 2025
DESCRIPTION:
LOCATION:Convento São Francisco, Coimbra
DTSTART:20251106T000000Z
DTEND:20251108T000000Z
END:VEVENT
END:VCALENDAR
