BEGIN:VCALENDAR
VERSION:2.0
BEGIN:VEVENT
SUMMARY:XX edição do Congresso Científico da AEFFUP
DESCRIPTION:
LOCATION:Associação Nacional das Farmácias - Delegação Norte
DTSTART:20251114T000000Z
DTEND:20251115T000000Z
END:VEVENT
END:VCALENDAR
