BEGIN:VCALENDAR
VERSION:2.0
BEGIN:VEVENT
SUMMARY:XIX Congresso Nacional de Psiquiatria
DESCRIPTION:
LOCATION:Palácio de Congressos dos Algarve
DTSTART:20251119T000000Z
DTEND:20251122T000000Z
END:VEVENT
END:VCALENDAR
