BEGIN:VCALENDAR
VERSION:2.0
BEGIN:VEVENT
SUMMARY:16.ª Reunião Anual APIC
DESCRIPTION:
LOCATION:Pestana Douro Riverside
DTSTART:20251120T000000Z
DTEND:20251122T000000Z
END:VEVENT
END:VCALENDAR
