BEGIN:VCALENDAR
VERSION:2.0
BEGIN:VEVENT
SUMMARY:29.º Congresso Português de Obesidade
DESCRIPTION:
LOCATION:Meliá Ria, Aveiro
DTSTART:20251120T000000Z
DTEND:20251122T000000Z
END:VEVENT
END:VCALENDAR
