BEGIN:VCALENDAR
VERSION:2.0
BEGIN:VEVENT
SUMMARY:Congresso Nacional de Oncologia 2025
DESCRIPTION:
LOCATION:Fórum Braga
DTSTART:20251126T000000Z
DTEND:20251128T000000Z
END:VEVENT
END:VCALENDAR
